BEGIN:VCALENDAR
VERSION:2.0
PRODID:-//Acme Widgets\, Inc.//NONSGML ExportToCalendar//EN
CALSCALE:GREGORIAN
BEGIN:VEVENT
DTSTAMP:20260420T081102Z
UID:ffd82453-5ab6-4bf3-bc7e-ea9b4ae0f92c
DTSTART:20260418T111500
DTEND:20260418T113000
DESCRIPTION:Inspection for 4 / 113 Newton Road\, BLACKTOWN NSW 2148
LOCATION:4 / 113 Newton Road\, BLACKTOWN NSW 2148
SUMMARY:4 / 113 Newton Road\, BLACKTOWN NSW 2148
END:VEVENT
END:VCALENDAR
